BEGIN:VCALENDAR
VERSION:2.0
PRODID:-//MotorsportReg//iCal 2.0//EN
CALSCALE:GREGORIAN
METHOD:PUBLISH
X-WR-TIMEZONE:US/Pacific
BEGIN:VEVENT
DTSTART:20210507T000000
DTEND:20210508T000000
DTSTAMP:20260421T070028Z
SUMMARY:The FIRM Friday Open Track Day May 7th
DESCRIPTION:Details: https://thefirm.motorsportreg.com/events/firm-friday-open-track-day-may-7th-florida-intl-rally-msport-park-065940
CATEGORIES:Open Track
TRANSP:TRANSPARENT
UID:5127D23C-D67D-AB55-D5190E0D3065D940-at-MotorsportReg.com
LOCATION:Florida Int'l Rally & Msport Park\, Starke\, FL US
GEO:29.94415;-82.11001
URL;VALUE=URI:https://thefirm.motorsportreg.com/events/firm-friday-open-track-day-may-7th-florida-intl-rally-msport-park-065940
END:VEVENT
END:VCALENDAR